BEGIN:VCALENDAR
VERSION:2.0
PRODID:SchoolNow
CALSCALE:GREGORIAN
BEGIN:VEVENT
UID:a99fea92-e20d-11e8-8761-12930a69bb46
DTSTAMP:20181106T220919Z
SUMMARY:East Middle School Winter Concert December 11th  7:00 P.M.
URL;VALUE=URI:https://www.bsd1.org/schools/east-middle-school/calendar/1903
 069/winter-concert-december-11-7-00-p-m
DTSTART:20181212T020000Z
DTEND:20181212T040000Z
END:VEVENT
END:VCALENDAR
