BEGIN:VCALENDAR
VERSION:2.0
PRODID:SchoolNow
CALSCALE:GREGORIAN
BEGIN:VEVENT
UID:ceb2ed02-6908-11ee-9173-0a22198721a5
DTSTAMP:20231012T141013Z
SUMMARY:Carroll College Coming to Butte
URL;VALUE=URI:https://www.bsd1.org/schools/butte-high-school/counselors-off
 ice/calendar/4857756/carroll-college-coming-to-butte
DTSTART:20231015T200000Z
DTEND:20231015T220000Z
ATTACH;FILENAME=carroll.PNG;FMTTYPE=image/png:https://campussuite-storage.s
 3.amazonaws.com/prod/1029413/5c087a86-292f-11e7-b792-22000bd8490f/2679669/
 bf28d69e-6908-11ee-97d6-0ee553e00be7/file/carroll.PNG
END:VEVENT
END:VCALENDAR
