BEGIN:VCALENDAR
VERSION:2.0
PRODID:SchoolNow
CALSCALE:GREGORIAN
BEGIN:VEVENT
UID:ff6c0316-5e22-11ee-8169-0ab81c7bd7ab
DTSTAMP:20230928T195146Z
SUMMARY:FREE - Montana College Application Weeks
URL;VALUE=URI:https://www.bsd1.org/schools/butte-high-school/counselors-off
 ice/calendar/4807388/free-montana-college-application-weeks
DTSTART:20231002T140000Z
DTEND:20231014T040000Z
END:VEVENT
END:VCALENDAR
