BEGIN:VCALENDAR
VERSION:2.0
PRODID:SchoolNow
CALSCALE:GREGORIAN
BEGIN:VEVENT
UID:bad7bb46-4bf8-11ee-83d1-0a58a9feac02
DTSTAMP:20230905T143015Z
SUMMARY:Senior Pictures Due to Yearbook
URL;VALUE=URI:https://www.bsd1.org/schools/butte-high-school/counselors-off
 ice/calendar/4684158/senior-pictures-due-to-yearbook
DTSTART:20231027T173000Z
DTEND:20231027T183000Z
END:VEVENT
END:VCALENDAR
