BEGIN:VCALENDAR
VERSION:2.0
PRODID:SchoolNow
CALSCALE:GREGORIAN
BEGIN:VEVENT
UID:768e398a-37a1-11ee-a5ed-0e9d4cb3c957
DTSTAMP:20230810T171612Z
SUMMARY:Freshman Dog Days (Orientation)
URL;VALUE=URI:https://www.bsd1.org/schools/butte-high-school/counselors-off
 ice/calendar/4563014/freshman-dog-days
DTSTART:20230828T143000Z
DTEND:20230828T173000Z
END:VEVENT
END:VCALENDAR
