BEGIN:VCALENDAR
VERSION:2.0
PRODID:SchoolNow
CALSCALE:GREGORIAN
BEGIN:VEVENT
UID:99b93f48-bc6a-11ed-b2e0-02c3e05d389f
DTSTAMP:20230306T220234Z
SUMMARY:Junior Girls' State
URL;VALUE=URI:https://www.bsd1.org/schools/butte-high-school/counselors-off
 ice/calendar/3827239/junior-girls-state
DTSTART:20230329T210000Z
DTEND:20230329T220000Z
END:VEVENT
END:VCALENDAR
