BEGIN:VCALENDAR
VERSION:2.0
PRODID:SchoolNow
CALSCALE:GREGORIAN
BEGIN:VEVENT
UID:3a28a4bc-ae26-11ed-9d58-02305a238767
DTSTAMP:20230216T182055Z
SUMMARY:Montana Tech Day - March 24\, 2023
URL;VALUE=URI:https://www.bsd1.org/schools/butte-high-school/counselors-off
 ice/calendar/3750590/montana-tech-day-march-24-2023
DTSTART:20230216T070000Z
DTEND:20230325T055900Z
END:VEVENT
END:VCALENDAR
