BEGIN:VCALENDAR
VERSION:2.0
PRODID:SchoolNow
CALSCALE:GREGORIAN
BEGIN:VEVENT
UID:449e52bc-974b-11ed-9486-0a07b0cec6a3
DTSTAMP:20230118T161504Z
SUMMARY:Senior Parent Meeting to plan chemical free all night graduation pa
 rty!
LOCATION:Butte High Cafeteria
URL;VALUE=URI:https://www.bsd1.org/schools/butte-high-school/counselors-off
 ice/calendar/3670877/senior-parent-meeting-to-plan-chemical-free-all-night
 -graduation-party
DTSTART:20230208T020000Z
DTEND:20230208T030000Z
END:VEVENT
END:VCALENDAR
