BEGIN:VCALENDAR
VERSION:2.0
PRODID:SchoolNow
CALSCALE:GREGORIAN
BEGIN:VEVENT
UID:e0531f72-5f9b-11ed-a0b0-0ef0e37fb23f
DTSTAMP:20221116T194446Z
SUMMARY:Financial Aid Application (FAFSA.gov)
URL;VALUE=URI:https://www.bsd1.org/schools/butte-high-school/counselors-off
 ice/calendar/3596555/financial-aid-application-fafsa
DTSTART:20221001T182900Z
DTEND:20221201T193000Z
END:VEVENT
END:VCALENDAR
