BEGIN:VCALENDAR
VERSION:2.0
PRODID:SchoolNow
CALSCALE:GREGORIAN
BEGIN:VEVENT
UID:a7134d88-9245-11f0-882b-0a58a9feac02
DTSTAMP:20250915T210642Z
SUMMARY:CANCELLED - to be rescheduled later in September.  Special Board Me
 eting Monday\, September 15\, 5:00 PM
URL;VALUE=URI:https://www.bsd1.org/school-board/calendar/8624401/regular-bo
 ard-meeting-monday-april-18th-2022-5-00-pm-clone-clone-clone-clone-clone-c
 lone-clone-clone-clone-clone-clone-clone-clone-clone-clone-clone-clone-clo
 ne-clone-clone-clone-clone-clone-clone-clone-clone-clone-clone-clone-clone
 -clone-clone-clone-clon
DTSTART:20250915T220000Z
DTEND:20250915T223000Z
END:VEVENT
END:VCALENDAR
