BEGIN:VCALENDAR
VERSION:2.0
PRODID:SchoolNow
CALSCALE:GREGORIAN
BEGIN:VEVENT
UID:3813aae6-7c73-11f0-8152-0a58a9feac02
DTSTAMP:20250818T203755Z
SUMMARY:Special Board Meeting Wednesday\, August 20\, 5:00 PM
URL;VALUE=URI:https://www.bsd1.org/school-board/calendar/8519081/regular-bo
 ard-meeting-monday-april-18th-2022-5-00-pm-clone-clone-clone-clone-clone-c
 lone-clone-clone-clone-clone-clone-clone-clone-clone-clone-clone-clone-clo
 ne-clone-clone-clone-clone-clone-clone-clone-clone-clone-clone-clone-clone
 -clone-clone-clone
DTSTART:20250820T230000Z
DTEND:20250820T233000Z
END:VEVENT
END:VCALENDAR
