BEGIN:VCALENDAR
VERSION:2.0
PRODID:SchoolNow
CALSCALE:GREGORIAN
BEGIN:VEVENT
UID:9a4d0a92-79fb-11f0-82ae-02eb822844bf
DTSTAMP:20250815T171638Z
SUMMARY:Regular Board Meeting Monday\, August 18\, 2025\, 5:00 PM
URL;VALUE=URI:https://www.bsd1.org/school-board/calendar/8511034/regular-bo
 ard-meeting-monday-april-18th-2022-5-00-pm-clone-clone-clone-clone-clone-c
 lone-clone-clone-clone-clone-clone-clone-clone-clone-clone-clone-clone-clo
 ne-clone-clone-clone-clone-clone-clone-clone-clone-clone-clone-clone-clone
 -clone-clone-clone-clon
DTSTART:20250818T230000Z
DTEND:20250819T000000Z
END:VEVENT
END:VCALENDAR
