BEGIN:VCALENDAR
VERSION:2.0
PRODID:SchoolNow
CALSCALE:GREGORIAN
BEGIN:VEVENT
UID:64eeb8fe-63e5-11f0-a165-020fea868e7b
DTSTAMP:20250718T144214Z
SUMMARY:Regular Board Meeting Monday\, July 21\, 2025\, 5:00 PM
URL;VALUE=URI:https://www.bsd1.org/school-board/calendar/8427183/regular-bo
 ard-meeting-monday-april-18th-2022-5-00-pm-clone-clone-clone-clone-clone-c
 lone-clone-clone-clone-clone-clone-clone-clone-clone-clone-clone-clone-clo
 ne-clone-clone-clone-clone-clone-clone-clone-clone-clone-clone-clone-clone
 -clone-clone-clone-clon
DTSTART:20250721T230000Z
DTEND:20250722T000000Z
END:VEVENT
END:VCALENDAR
