BEGIN:VCALENDAR
VERSION:2.0
PRODID:SchoolNow
CALSCALE:GREGORIAN
BEGIN:VEVENT
UID:ffc20ffc-569d-11f0-9f27-0efa27d97e01
DTSTAMP:20250701T170824Z
SUMMARY:Regular Board Meeting Monday\, April 21 \, 2025\, 5:00 PM
URL;VALUE=URI:https://www.bsd1.org/school-board/calendar/8373856/regular-bo
 ard-meeting-monday-april-18th-2022-5-00-pm-clone-clone-clone-clone-clone-c
 lone-clone-clone-clone-clone-clone-clone-clone-clone-clone-clone-clone-clo
 ne-clone-clone-clone-clone-clone-clone-clone-clone-clone-clone-clone-clone
 -clone-clone-clone-clon
DTSTART:20250421T230000Z
DTEND:20250422T000000Z
END:VEVENT
END:VCALENDAR
