BEGIN:VCALENDAR
VERSION:2.0
PRODID:SchoolNow
CALSCALE:GREGORIAN
BEGIN:VEVENT
UID:1d1de9c4-485f-11f0-9e27-0afff89ce305
DTSTAMP:20250613T140259Z
SUMMARY:Regular Board Meeting Monday\, June 16 \, 2025\, 5:00 PM
URL;VALUE=URI:https://www.bsd1.org/school-board/calendar/8297420/regular-bo
 ard-meeting-monday-april-18th-2022-5-00-pm-clone-clone-clone-clone-clone-c
 lone-clone-clone-clone-clone-clone-clone-clone-clone-clone-clone-clone-clo
 ne-clone-clone-clone-clone-clone-clone-clone-clone-clone-clone-clone-clone
 -clone-clone-clone-clon
DTSTART:20250616T230000Z
DTEND:20250617T000000Z
END:VEVENT
END:VCALENDAR
