BEGIN:VCALENDAR
VERSION:2.0
PRODID:SchoolNow
CALSCALE:GREGORIAN
BEGIN:VEVENT
UID:7bd3c570-4304-11f0-bee9-0a58a9feac02
DTSTAMP:20250606T183138Z
SUMMARY:Special Board Meeting Tuesday\, June 10\,  2025\, 12:30 PM
URL;VALUE=URI:https://www.bsd1.org/school-board/calendar/8262805/regular-bo
 ard-meeting-monday-april-18th-2022-5-00-pm-clone-clone-clone-clone-clone-c
 lone-clone-clone-clone-clone-clone-clone-clone-clone-clone-clone-clone-clo
 ne-clone-clone-clone-clone-clone-clone-clone-clone-clone-clone-clone-clone
 -clone-clone
DTSTART:20250610T183000Z
DTEND:20250610T190000Z
END:VEVENT
END:VCALENDAR
