BEGIN:VCALENDAR
VERSION:2.0
PRODID:SchoolNow
CALSCALE:GREGORIAN
BEGIN:VEVENT
UID:f2a258f2-3264-11f0-a2a4-0affc55b7815
DTSTAMP:20250516T144919Z
SUMMARY:Special Board Meeting Monday\, May 19\,  2025\, 4:30 PM
URL;VALUE=URI:https://www.bsd1.org/school-board/calendar/8146629/regular-bo
 ard-meeting-monday-april-18th-2022-5-00-pm-clone-clone-clone-clone-clone-c
 lone-clone-clone-clone-clone-clone-clone-clone-clone-clone-clone-clone-clo
 ne-clone-clone-clone-clone-clone-clone-clone-clone-clone-clone-clone-clone
 -clone
DTSTART:20250519T223000Z
DTEND:20250519T230000Z
END:VEVENT
END:VCALENDAR
