BEGIN:VCALENDAR
VERSION:2.0
PRODID:SchoolNow
CALSCALE:GREGORIAN
BEGIN:VEVENT
UID:06e7a426-ff60-11ef-a040-0ecf5d6d82b1
DTSTAMP:20250312T163536Z
SUMMARY:Special Board Meeting Thursday March 13\,  2025\, 4:00 PM
URL;VALUE=URI:https://www.bsd1.org/school-board/calendar/7665532/regular-bo
 ard-meeting-monday-april-18th-2022-5-00-pm-clone-clone-clone-clone-clone-c
 lone-clone-clone-clone-clone-clone-clone-clone-clone-clone-clone-clone-clo
 ne-clone-clone-clone-clone-clone-clone-clone-clone-clone-clone-clone
DTSTART:20250313T220000Z
DTEND:20250313T223000Z
END:VEVENT
END:VCALENDAR
