BEGIN:VCALENDAR
VERSION:2.0
PRODID:SchoolNow
CALSCALE:GREGORIAN
BEGIN:VEVENT
UID:f4d90586-ee4d-11ef-b1d6-0ec36bcb8959
DTSTAMP:20250218T231325Z
SUMMARY:Regular Board Meeting Tuesday\, February 18\, 2025\, 5:00 PM
URL;VALUE=URI:https://www.bsd1.org/school-board/calendar/7496348/regular-bo
 ard-meeting-monday-april-18th-2022-5-00-pm-clone-clone-clone-clone-clone-c
 lone-clone-clone-clone-clone-clone-clone-clone-clone-clone-clone-clone-clo
 ne-clone-clone-clone-clone-clone-clone-clone-clone-clone-clone-clone-clone
 -clone-clone-clone
DTSTART:20250219T000000Z
DTEND:20250219T010000Z
END:VEVENT
END:VCALENDAR
