BEGIN:VCALENDAR
VERSION:2.0
PRODID:SchoolNow
CALSCALE:GREGORIAN
BEGIN:VEVENT
UID:1906e552-e969-11ef-b94f-0a58a9feac02
DTSTAMP:20250212T174507Z
SUMMARY:Special Board Meeting Thursday February 13\,  2025\, 5:00 PM
URL;VALUE=URI:https://www.bsd1.org/school-board/calendar/7458600/regular-bo
 ard-meeting-monday-april-18th-2022-5-00-pm-clone-clone-clone-clone-clone-c
 lone-clone-clone-clone-clone-clone-clone-clone-clone-clone-clone-clone-clo
 ne-clone-clone-clone-clone-clone-clone-clone-clone-clone-clone
DTSTART:20250214T000000Z
DTEND:20250214T003000Z
END:VEVENT
END:VCALENDAR
