BEGIN:VCALENDAR
VERSION:2.0
PRODID:SchoolNow
CALSCALE:GREGORIAN
BEGIN:VEVENT
UID:93a2db42-d521-11ef-863b-0a58a9feac02
DTSTAMP:20250117T222245Z
SUMMARY:Special Board Meeting Closed Session Tuesday\, January 21\,  2025\,
  5:45 PM
URL;VALUE=URI:https://www.bsd1.org/school-board/calendar/7331026/regular-bo
 ard-meeting-monday-april-18th-2022-5-00-pm-clone-clone-clone-clone-clone-c
 lone-clone-clone-clone-clone-clone-clone-clone-clone-clone-clone-clone-clo
 ne-clone-clone-clone-clone-clone-clone-clone-clone-clone
DTSTART:20250122T004500Z
DTEND:20250122T011500Z
END:VEVENT
END:VCALENDAR
