BEGIN:VCALENDAR
VERSION:2.0
PRODID:SchoolNow
CALSCALE:GREGORIAN
BEGIN:VEVENT
UID:4b19608a-d521-11ef-afae-0a58a9feac02
DTSTAMP:20250117T222044Z
SUMMARY:Regular Board Meeting Tuesday\, January 21\, 2025\, 5:00 PM
URL;VALUE=URI:https://www.bsd1.org/school-board/calendar/7331025/regular-bo
 ard-meeting-monday-april-18th-2022-5-00-pm-clone-clone-clone-clone-clone-c
 lone-clone-clone-clone-clone-clone-clone-clone-clone-clone-clone-clone-clo
 ne-clone-clone-clone-clone-clone-clone-clone-clone-clone-clone-clone-clone
 -clone-clone
DTSTART:20250122T000000Z
DTEND:20250122T010000Z
END:VEVENT
END:VCALENDAR
