BEGIN:VCALENDAR
VERSION:2.0
PRODID:SchoolNow
CALSCALE:GREGORIAN
BEGIN:VEVENT
UID:0165a7b8-b8df-11ef-a4b8-0a58a9feac02
DTSTAMP:20241212T231541Z
SUMMARY:Regular Board Meeting Monday\, December 16\, 2024\, 5:00 PM
URL;VALUE=URI:https://www.bsd1.org/school-board/calendar/7161863/regular-bo
 ard-meeting-monday-april-18th-2022-5-00-pm-clone-clone-clone-clone-clone-c
 lone-clone-clone-clone-clone-clone-clone-clone-clone-clone-clone-clone-clo
 ne-clone-clone-clone-clone-clone-clone-clone-clone-clone-clone-clone-clone
 -clone
DTSTART:20241217T000000Z
DTEND:20241217T010000Z
END:VEVENT
END:VCALENDAR
