BEGIN:VCALENDAR
VERSION:2.0
PRODID:SchoolNow
CALSCALE:GREGORIAN
BEGIN:VEVENT
UID:60de9606-a2db-11ef-8b37-0affc1b74f4b
DTSTAMP:20241114T225417Z
SUMMARY:Regular Board Meeting Monday\, November 18\, 2024\, 5:00 PM
URL;VALUE=URI:https://www.bsd1.org/school-board/calendar/7022398/regular-bo
 ard-meeting-monday-april-18th-2022-5-00-pm-clone-clone-clone-clone-clone-c
 lone-clone-clone-clone-clone-clone-clone-clone-clone-clone-clone-clone-clo
 ne-clone-clone-clone-clone-clone-clone-clone-clone-clone-clone-clone-clone
DTSTART:20241119T000000Z
DTEND:20241119T010000Z
END:VEVENT
END:VCALENDAR
