BEGIN:VCALENDAR
VERSION:2.0
PRODID:SchoolNow
CALSCALE:GREGORIAN
BEGIN:VEVENT
UID:077847c8-8d60-11ef-9c8d-0ee6a69b9005
DTSTAMP:20241018T144825Z
SUMMARY:Special Board Meeting Work Session Monday\, October 21\,  2024\, 5:
 30 PM
URL;VALUE=URI:https://www.bsd1.org/school-board/calendar/6850472/regular-bo
 ard-meeting-monday-april-18th-2022-5-00-pm-clone-clone-clone-clone-clone-c
 lone-clone-clone-clone-clone-clone-clone-clone-clone-clone-clone-clone-clo
 ne-clone-clone-clone-clone-clone-clone-clone-clone
DTSTART:20241021T233000Z
DTEND:20241022T000000Z
END:VEVENT
END:VCALENDAR
