BEGIN:VCALENDAR
VERSION:2.0
PRODID:SchoolNow
CALSCALE:GREGORIAN
BEGIN:VEVENT
UID:9ecacade-8d5f-11ef-9f04-0a58a9feac02
DTSTAMP:20241018T144840Z
SUMMARY:Regular Board Meeting Monday\, October 21\, 2024\, 5:00 PM
URL;VALUE=URI:https://www.bsd1.org/school-board/calendar/6850470/regular-bo
 ard-meeting-monday-april-18th-2022-5-00-pm-clone-clone-clone-clone-clone-c
 lone-clone-clone-clone-clone-clone-clone-clone-clone-clone-clone-clone-clo
 ne-clone-clone-clone-clone-clone-clone-clone-clone-clone-clone-clone
DTSTART:20241021T230000Z
DTEND:20241022T000000Z
END:VEVENT
END:VCALENDAR
