BEGIN:VCALENDAR
VERSION:2.0
PRODID:SchoolNow
CALSCALE:GREGORIAN
BEGIN:VEVENT
UID:6c0f8b6a-7ac3-11ef-a9a5-0a58a9feac02
DTSTAMP:20240924T222202Z
SUMMARY:Special Board Meeting Tuesday September 24\,  2024\, 5:00 PM
URL;VALUE=URI:https://www.bsd1.org/school-board/calendar/6683079/regular-bo
 ard-meeting-monday-april-18th-2022-5-00-pm-clone-clone-clone-clone-clone-c
 lone-clone-clone-clone-clone-clone-clone-clone-clone-clone-clone-clone-clo
 ne-clone-clone-clone-clone-clone-clone-clone
DTSTART:20240926T230000Z
DTEND:20240926T233000Z
END:VEVENT
END:VCALENDAR
