BEGIN:VCALENDAR
VERSION:2.0
PRODID:SchoolNow
CALSCALE:GREGORIAN
BEGIN:VEVENT
UID:4849af60-5b53-11ef-ad93-02704e7f6a19
DTSTAMP:20240815T221112Z
SUMMARY:Regular Board Meeting Monday\, August 19\, 2024\, 5:00 PM
URL;VALUE=URI:https://www.bsd1.org/school-board/calendar/6409065/regular-bo
 ard-meeting-monday-april-18th-2022-5-00-pm-clone-clone-clone-clone-clone-c
 lone-clone-clone-clone-clone-clone-clone-clone-clone-clone-clone-clone-clo
 ne-clone-clone-clone-clone-clone-clone-clone-clone-clone
DTSTART:20240819T230000Z
DTEND:20240820T000000Z
END:VEVENT
END:VCALENDAR
