BEGIN:VCALENDAR
VERSION:2.0
PRODID:SchoolNow
CALSCALE:GREGORIAN
BEGIN:VEVENT
UID:3187ece4-2a5a-11ef-a084-0a58a9feac02
DTSTAMP:20240614T142713Z
SUMMARY:Regular Board Meeting Monday\, June 17\, 2024\, 5:00 PM
URL;VALUE=URI:https://www.bsd1.org/school-board/calendar/6121384/regular-bo
 ard-meeting-monday-april-18th-2022-5-00-pm-clone-clone-clone-clone-clone-c
 lone-clone-clone-clone-clone-clone-clone-clone-clone-clone-clone-clone-clo
 ne-clone-clone-clone-clone-clone-clone-clone
DTSTART:20240617T230000Z
DTEND:20240618T000000Z
END:VEVENT
END:VCALENDAR
