BEGIN:VCALENDAR
VERSION:2.0
PRODID:SchoolNow
CALSCALE:GREGORIAN
BEGIN:VEVENT
UID:8b1b5ade-13d0-11ef-813b-0a58a9feac02
DTSTAMP:20240516T220627Z
SUMMARY:Regular Board Meeting Monday\, May 20\, 2024\, 5:00 PM
URL;VALUE=URI:https://www.bsd1.org/school-board/calendar/5982980/regular-bo
 ard-meeting-monday-april-18th-2022-5-00-pm-clone-clone-clone-clone-clone-c
 lone-clone-clone-clone-clone-clone-clone-clone-clone-clone-clone-clone-clo
 ne-clone-clone-clone-clone-clone-clone
DTSTART:20240520T230000Z
DTEND:20240521T000000Z
END:VEVENT
END:VCALENDAR
