BEGIN:VCALENDAR
VERSION:2.0
PRODID:SchoolNow
CALSCALE:GREGORIAN
BEGIN:VEVENT
UID:0a28558e-f851-11ee-adda-0a58a9feac02
DTSTAMP:20240411T221544Z
SUMMARY:Regular Board Meeting Monday\, April 15\, 2024\, 5:00 PM
URL;VALUE=URI:https://www.bsd1.org/school-board/calendar/5762415/regular-bo
 ard-meeting-monday-april-18th-2022-5-00-pm-clone-clone-clone-clone-clone-c
 lone-clone-clone-clone-clone-clone-clone-clone-clone-clone-clone-clone-clo
 ne-clone-clone-clone-clone-clone
DTSTART:20240415T230000Z
DTEND:20240416T000000Z
END:VEVENT
END:VCALENDAR
