BEGIN:VCALENDAR
VERSION:2.0
PRODID:SchoolNow
CALSCALE:GREGORIAN
BEGIN:VEVENT
UID:03cca4a0-e2d6-11ee-a9a0-0affd6bab161
DTSTAMP:20240315T141210Z
SUMMARY:Regular Board Meeting Monday\, March 18\, 2024\, 5:00 PM
URL;VALUE=URI:https://www.bsd1.org/school-board/calendar/5551002/regular-bo
 ard-meeting-monday-april-18th-2022-5-00-pm-clone-clone-clone-clone-clone-c
 lone-clone-clone-clone-clone-clone-clone-clone-clone-clone-clone-clone-clo
 ne-clone-clone-clone-clone
DTSTART:20240318T230000Z
DTEND:20240319T000000Z
END:VEVENT
END:VCALENDAR
