BEGIN:VCALENDAR
VERSION:2.0
PRODID:SchoolNow
CALSCALE:GREGORIAN
BEGIN:VEVENT
UID:e04bc2a4-e186-11ee-8a14-0affc3c6e4c1
DTSTAMP:20240313T221644Z
SUMMARY:Special Board Meeting Thursday\, March 14\,  2024\, 4:00 PM
URL;VALUE=URI:https://www.bsd1.org/school-board/calendar/5536940/regular-bo
 ard-meeting-monday-april-18th-2022-5-00-pm-clone-clone-clone-clone-clone-c
 lone-clone-clone-clone-clone-clone-clone-clone-clone-clone-clone-clone-clo
 ne-clone-clone-clone-clone-clone
DTSTART:20240314T220000Z
DTEND:20240314T230000Z
END:VEVENT
END:VCALENDAR
