BEGIN:VCALENDAR
VERSION:2.0
PRODID:SchoolNow
CALSCALE:GREGORIAN
BEGIN:VEVENT
UID:d46df662-bbd6-11ee-aacf-02cf6acdefa3
DTSTAMP:20240125T231501Z
SUMMARY:Special Board Meeting Monday\, January 29 2024\, 4:15 PM
URL;VALUE=URI:https://www.bsd1.org/school-board/calendar/5209343/regular-bo
 ard-meeting-monday-april-18th-2022-5-00-pm-clone-clone-clone-clone-clone-c
 lone-clone-clone-clone-clone-clone-clone-clone-clone-clone-clone-clone-clo
 ne-clone-clone-clone-clone
DTSTART:20240129T231500Z
DTEND:20240130T001500Z
END:VEVENT
END:VCALENDAR
