BEGIN:VCALENDAR
VERSION:2.0
PRODID:SchoolNow
CALSCALE:GREGORIAN
BEGIN:VEVENT
UID:0f9550b6-b711-11ee-9bba-0a58a9feac02
DTSTAMP:20240125T231017Z
SUMMARY:Special Board Meeting Monday\, January 22 2024\, 4:00 PM
URL;VALUE=URI:https://www.bsd1.org/school-board/calendar/5180951/regular-bo
 ard-meeting-monday-april-18th-2022-5-00-pm-clone-clone-clone-clone-clone-c
 lone-clone-clone-clone-clone-clone-clone-clone-clone-clone-clone-clone-clo
 ne-clone-clone-clone
DTSTART:20240122T230000Z
DTEND:20240123T000000Z
END:VEVENT
END:VCALENDAR
