BEGIN:VCALENDAR
VERSION:2.0
PRODID:SchoolNow
CALSCALE:GREGORIAN
BEGIN:VEVENT
UID:3482dcf4-b3ce-11ee-be67-0a58a9feac02
DTSTAMP:20240115T174752Z
SUMMARY:Special Board Meeting Tuesday\, January 16\, 2024 4:00 PM
URL;VALUE=URI:https://www.bsd1.org/school-board/calendar/5158798/regular-bo
 ard-meeting-monday-april-18th-2022-5-00-pm-clone-clone-clone-clone-clone-c
 lone-clone-clone-clone-clone-clone-clone-clone-clone-clone-clone-clone
DTSTART:20240116T230000Z
DTEND:20240116T234500Z
END:VEVENT
END:VCALENDAR
