BEGIN:VCALENDAR
VERSION:2.0
PRODID:SchoolNow
CALSCALE:GREGORIAN
BEGIN:VEVENT
UID:fa397062-b3cd-11ee-800e-0a58a9feac02
DTSTAMP:20240115T174614Z
SUMMARY:Regular Board Meeting Monday Tuesday\, January 16 2024\, 5:00 PM
URL;VALUE=URI:https://www.bsd1.org/school-board/calendar/5158797/regular-bo
 ard-meeting-monday-april-18th-2022-5-00-pm-clone-clone-clone-clone-clone-c
 lone-clone-clone-clone-clone-clone-clone-clone-clone-clone-clone-clone-clo
 ne-clone-clone
DTSTART:20240117T000000Z
DTEND:20240117T010000Z
END:VEVENT
END:VCALENDAR
