BEGIN:VCALENDAR
VERSION:2.0
PRODID:SchoolNow
CALSCALE:GREGORIAN
BEGIN:VEVENT
UID:f540ddc6-9ad6-11ee-b893-0a58a9feac02
DTSTAMP:20231214T231732Z
SUMMARY:Regular Board Meeting Monday December 18\, 2023\, 5:00 PM
URL;VALUE=URI:https://www.bsd1.org/school-board/calendar/5003323/regular-bo
 ard-meeting-monday-april-18th-2022-5-00-pm-clone-clone-clone-clone-clone-c
 lone-clone-clone-clone-clone-clone-clone-clone-clone-clone-clone-clone-clo
 ne-clone
DTSTART:20231219T000000Z
DTEND:20231219T010000Z
END:VEVENT
END:VCALENDAR
