BEGIN:VCALENDAR
VERSION:2.0
PRODID:SchoolNow
CALSCALE:GREGORIAN
BEGIN:VEVENT
UID:dfcbb068-92bd-11ee-a4e7-0a58a9feac02
DTSTAMP:20231204T155749Z
SUMMARY:Special Board Meeting Monday December 4\,  2023 4"15 PM
URL;VALUE=URI:https://www.bsd1.org/school-board/calendar/4981376/regular-bo
 ard-meeting-monday-april-18th-2022-5-00-pm-clone-clone-clone-clone-clone-c
 lone-clone-clone-clone-clone-clone-clone-clone-clone-clone-clone
DTSTART:20231204T230000Z
DTEND:20231204T234500Z
END:VEVENT
END:VCALENDAR
