BEGIN:VCALENDAR
VERSION:2.0
PRODID:SchoolNow
CALSCALE:GREGORIAN
BEGIN:VEVENT
UID:18e0c4d0-84f2-11ee-83f3-0a58a9feac02
DTSTAMP:20231117T023622Z
SUMMARY:Special Board Meeting Monday November 20\,  2023 4"15 PM
URL;VALUE=URI:https://www.bsd1.org/school-board/calendar/4953580/regular-bo
 ard-meeting-monday-april-18th-2022-5-00-pm-clone-clone-clone-clone-clone-c
 lone-clone-clone-clone-clone-clone-clone-clone-clone-clone
DTSTART:20231120T231500Z
DTEND:20231121T000000Z
END:VEVENT
END:VCALENDAR
