BEGIN:VCALENDAR
VERSION:2.0
PRODID:SchoolNow
CALSCALE:GREGORIAN
BEGIN:VEVENT
UID:6cbbe2ca-84f1-11ee-b624-0a58a9feac02
DTSTAMP:20231117T023134Z
SUMMARY:Regular Board Meeting Monday November 20\, 2023\, 5:00 PM
URL;VALUE=URI:https://www.bsd1.org/school-board/calendar/4953579/regular-bo
 ard-meeting-monday-april-18th-2022-5-00-pm-clone-clone-clone-clone-clone-c
 lone-clone-clone-clone-clone-clone-clone-clone-clone-clone-clone-clone-clo
 ne
DTSTART:20231121T000000Z
DTEND:20231121T010000Z
END:VEVENT
END:VCALENDAR
