BEGIN:VCALENDAR
VERSION:2.0
PRODID:SchoolNow
CALSCALE:GREGORIAN
BEGIN:VEVENT
UID:e57c7b6e-697d-11ee-a1db-0a58a9feac02
DTSTAMP:20231013T040633Z
SUMMARY:Regular Board Meeting Monday October 16\, 2023\, 5:00 PM
URL;VALUE=URI:https://www.bsd1.org/school-board/calendar/4860747/regular-bo
 ard-meeting-monday-april-18th-2022-5-00-pm-clone-clone-clone-clone-clone-c
 lone-clone-clone-clone-clone-clone-clone-clone-clone-clone-clone-clone
DTSTART:20231016T230000Z
DTEND:20231017T000000Z
END:VEVENT
END:VCALENDAR
