BEGIN:VCALENDAR
VERSION:2.0
PRODID:SchoolNow
CALSCALE:GREGORIAN
BEGIN:VEVENT
UID:e20424dc-3df9-11ee-a599-0a58a9feac02
DTSTAMP:20230818T190314Z
SUMMARY:Regular Board Meeting Monday August 21\, 2023\, 5:00 PM
URL;VALUE=URI:https://www.bsd1.org/school-board/calendar/4590445/regular-bo
 ard-meeting-monday-april-18th-2022-5-00-pm-clone-clone-clone-clone-clone-c
 lone-clone-clone-clone-clone-clone-clone-clone-clone-clone
DTSTART:20230821T230000Z
DTEND:20230822T000000Z
END:VEVENT
END:VCALENDAR
