BEGIN:VCALENDAR
VERSION:2.0
PRODID:SchoolNow
CALSCALE:GREGORIAN
BEGIN:VEVENT
UID:6c00ae2a-3c66-11ee-8598-0a58a9feac02
DTSTAMP:20230816T185616Z
SUMMARY:Special Board Meeting Thursday August 17\,  2023 5:30 PM
URL;VALUE=URI:https://www.bsd1.org/school-board/calendar/4580824/regular-bo
 ard-meeting-monday-april-18th-2022-5-00-pm-clone-clone-clone-clone-clone-c
 lone-clone-clone-clone-clone-clone-clone-clone-clone
DTSTART:20230817T233000Z
DTEND:20230818T003000Z
END:VEVENT
END:VCALENDAR
