BEGIN:VCALENDAR
VERSION:2.0
PRODID:SchoolNow
CALSCALE:GREGORIAN
BEGIN:VEVENT
UID:e5e35610-225e-11ee-95d0-0a33dae03443
DTSTAMP:20230714T155547Z
SUMMARY:Regular Board Meeting Monday July 17\, 2023\, 5:00 PM
URL;VALUE=URI:https://www.bsd1.org/school-board/calendar/4498722/regular-bo
 ard-meeting-monday-april-18th-2022-5-00-pm-clone-clone-clone-clone-clone-c
 lone-clone-clone-clone-clone-clone-clone-clone-clone
DTSTART:20230717T230000Z
DTEND:20230718T000000Z
END:VEVENT
END:VCALENDAR
