BEGIN:VCALENDAR
VERSION:2.0
PRODID:SchoolNow
CALSCALE:GREGORIAN
BEGIN:VEVENT
UID:32053b20-0eab-11ee-8b42-0276441d9407
DTSTAMP:20230619T141133Z
SUMMARY:Regular Board Meeting Monday June 19\, 2023\, 5:00 PM
URL;VALUE=URI:https://www.bsd1.org/school-board/calendar/4408872/regular-bo
 ard-meeting-monday-april-18th-2022-5-00-pm-clone-clone-clone-clone-clone-c
 lone-clone-clone-clone-clone-clone-clone-clone
DTSTART:20230619T230000Z
DTEND:20230620T000000Z
END:VEVENT
END:VCALENDAR
