BEGIN:VCALENDAR
VERSION:2.0
PRODID:SchoolNow
CALSCALE:GREGORIAN
BEGIN:VEVENT
UID:959e2dba-017a-11ee-88e5-0a9bf137ec4d
DTSTAMP:20230602T192050Z
SUMMARY:Special Board Meeting Monday May 15\, 2023\, 4:45 PM
URL;VALUE=URI:https://www.bsd1.org/school-board/calendar/4340948/regular-bo
 ard-meeting-monday-april-18th-2022-5-00-pm-clone-clone-clone-clone-clone-c
 lone-clone-clone-clone-clone-clone-clone-clone
DTSTART:20230515T224500Z
DTEND:20230515T230000Z
END:VEVENT
END:VCALENDAR
