BEGIN:VCALENDAR
VERSION:2.0
PRODID:SchoolNow
CALSCALE:GREGORIAN
BEGIN:VEVENT
UID:def30310-0179-11ee-9c02-0a9bf137ec4d
DTSTAMP:20230602T191543Z
SUMMARY:Special Board Meeting Monday June 5\, 2023\, 12:00 PM
URL;VALUE=URI:https://www.bsd1.org/school-board/calendar/4340946/regular-bo
 ard-meeting-monday-april-18th-2022-5-00-pm-clone-clone-clone-clone-clone-c
 lone-clone-clone-clone-clone-clone-clone
DTSTART:20230605T180000Z
DTEND:20230605T190000Z
END:VEVENT
END:VCALENDAR
