BEGIN:VCALENDAR
VERSION:2.0
PRODID:SchoolNow
CALSCALE:GREGORIAN
BEGIN:VEVENT
UID:517d44da-a1b8-11ed-99e5-0a5e02ed84eb
DTSTAMP:20230131T224053Z
SUMMARY:Special Board Meeting Thursday\, February 2\, 2023 5:00  PM
LOCATION:Please note\, these meetings will be held via Teams teleconference
 .
URL;VALUE=URI:https://www.bsd1.org/school-board/calendar/3705206/regular-bo
 ard-meeting-monday-april-18th-2022-5-00-pm-clone-clone-clone-clone-clone-c
 lone-clone-clone-clone
DTSTART:20230118T000000Z
DTEND:20230118T010000Z
END:VEVENT
END:VCALENDAR
