BEGIN:VCALENDAR
VERSION:2.0
PRODID:SchoolNow
CALSCALE:GREGORIAN
BEGIN:VEVENT
UID:3dd64a58-95b0-11ed-b135-0a223007cf3d
DTSTAMP:20230116T154103Z
SUMMARY:Regular Board Meeting Monday\, January 17\, 2023\, 5:00 PM
URL;VALUE=URI:https://www.bsd1.org/school-board/calendar/3668579/regular-bo
 ard-meeting-monday-april-18th-2022-5-00-pm-clone-clone-clone-clone-clone-c
 lone-clone-clone
DTSTART:20230118T000000Z
DTEND:20230118T010000Z
END:VEVENT
END:VCALENDAR
